BEGIN:VCALENDAR
VERSION:2.0
PRODID:-//MSAV UROS - ECPv6.15.20//NONSGML v1.0//EN
CALSCALE:GREGORIAN
METHOD:PUBLISH
X-WR-CALNAME:MSAV UROS
X-ORIGINAL-URL:https://uros.nl
X-WR-CALDESC:Events for MSAV UROS
REFRESH-INTERVAL;VALUE=DURATION:PT1H
X-Robots-Tag:noindex
X-PUBLISHED-TTL:PT1H
BEGIN:VTIMEZONE
TZID:Europe/Amsterdam
BEGIN:DAYLIGHT
TZOFFSETFROM:+0100
TZOFFSETTO:+0200
TZNAME:CEST
DTSTART:20240331T010000
END:DAYLIGHT
BEGIN:STANDARD
TZOFFSETFROM:+0200
TZOFFSETTO:+0100
TZNAME:CET
DTSTART:20241027T010000
END:STANDARD
BEGIN:DAYLIGHT
TZOFFSETFROM:+0100
TZOFFSETTO:+0200
TZNAME:CEST
DTSTART:20250330T010000
END:DAYLIGHT
BEGIN:STANDARD
TZOFFSETFROM:+0200
TZOFFSETTO:+0100
TZNAME:CET
DTSTART:20251026T010000
END:STANDARD
BEGIN:DAYLIGHT
TZOFFSETFROM:+0100
TZOFFSETTO:+0200
TZNAME:CEST
DTSTART:20260329T010000
END:DAYLIGHT
BEGIN:STANDARD
TZOFFSETFROM:+0200
TZOFFSETTO:+0100
TZNAME:CET
DTSTART:20261025T010000
END:STANDARD
END:VTIMEZONE
BEGIN:VTIMEZONE
TZID:UTC
BEGIN:STANDARD
TZOFFSETFROM:+0000
TZOFFSETTO:+0000
TZNAME:UTC
DTSTART:20220101T000000
END:STANDARD
END:VTIMEZONE
BEGIN:VEVENT
DTSTART;TZID=Europe/Amsterdam:20251112T180000
DTEND;TZID=Europe/Amsterdam:20251112T200000
DTSTAMP:20260421T213642
CREATED:20251106T161458Z
LAST-MODIFIED:20251106T161948Z
UID:657-1762970400-1762977600@uros.nl
SUMMARY:Bowling 🎳
DESCRIPTION:Take a break from the track with some friendly competition at the bowling alley. Come hang out with your fellow UROSians\, and see who can actually throw a decent strike. Join us for bowling! 🎳💥💯
URL:https://uros.nl/event/bowling121125/
LOCATION:Olround Maastricht & Prison Island\, Boschstraat 30\, Maastricht\, 6211 AX\, Netherlands
CATEGORIES:Activities
END:VEVENT
BEGIN:VEVENT
DTSTART;VALUE=DATE:20251109
DTEND;VALUE=DATE:20251110
DTSTAMP:20260421T213642
CREATED:20251027T114444Z
LAST-MODIFIED:20251027T114444Z
UID:636-1762646400-1762732799@uros.nl
SUMMARY:Life Science Run
DESCRIPTION:On the 9th of November\, Tartlétos is organizing the Life Science Run in Wageningen\,\nwhere you can participate in the 5km\, 10km or half marathon!
URL:https://uros.nl/event/life-science-run/
LOCATION:Wageningen
CATEGORIES:Competition
END:VEVENT
BEGIN:VEVENT
DTSTART;VALUE=DATE:20251109
DTEND;VALUE=DATE:20251110
DTSTAMP:20260421T213642
CREATED:20251027T113139Z
LAST-MODIFIED:20251027T114634Z
UID:629-1762646400-1762732799@uros.nl
SUMMARY:Klein Zwitserlandcross
DESCRIPTION:The Klein Zwitserlandcross is part of the Limbra cross competitions. This cross takes\nplace in the Little Switzerland nature reserve\, which is known for its varied and challenging\nterrain. There is a short cross (4.2km) and a long cross (9.6km).
URL:https://uros.nl/event/klein-zwitserlandcross/
LOCATION:Tegelen
CATEGORIES:Competition
END:VEVENT
BEGIN:VEVENT
DTSTART;VALUE=DATE:20251109
DTEND;VALUE=DATE:20251110
DTSTAMP:20260421T213642
CREATED:20251027T113051Z
LAST-MODIFIED:20251027T114606Z
UID:627-1762646400-1762732799@uros.nl
SUMMARY:LCC decoloop SACN Pel
DESCRIPTION:This is the second race of the Limburg (Belgium) cross-country series. You can participate\nin the short cross (2660m) or in the long cross (5190m-women/ 7840m-men). \nYou can register until 30 minutes before the start of the competition. \n 
URL:https://uros.nl/event/lcc-decoloop-sacn-pel/
LOCATION:Pelt
CATEGORIES:Competition
END:VEVENT
BEGIN:VEVENT
DTSTART;TZID=Europe/Amsterdam:20251107T210000
DTEND;TZID=Europe/Amsterdam:20251108T040000
DTSTAMP:20260421T213642
CREATED:20251027T120105Z
LAST-MODIFIED:20251027T120105Z
UID:651-1762549200-1762574400@uros.nl
SUMMARY:UROS COBO
DESCRIPTION:Join us for our very own COBO and support us during a night full of fun\, singing\, dancing\, free beer and loads of red wine (only for the board members\, but you are more than welcome to help us!) \nWe need you to help us in the defense against other Boards and their intentions of stealing not only our flag\, mascot or guestbook but also in kidnapping some of us boardmembers! \nLast year our COBO was labelled as the “best COBO of Maastricht” and we would like to repeat that pattern… \nSo please help us in making this night as unforgettable and remarkable as possible!!!
URL:https://uros.nl/event/uros-cobo/
LOCATION:Studentencafé de Beurs
END:VEVENT
BEGIN:VEVENT
DTSTART;VALUE=DATE:20251102
DTEND;VALUE=DATE:20251103
DTSTAMP:20260421T213642
CREATED:20251027T112909Z
LAST-MODIFIED:20251027T114248Z
UID:625-1762041600-1762127999@uros.nl
SUMMARY:LCC veldloop ADD Tongeren/Borgloon
DESCRIPTION:This is the first race of the Limburg (Belgium) cross-country series. You can choose to run\nthe 2750m or the 4450m (women)/ 5500m (men). \nRegistration is possible until the 1st of November at noon.
URL:https://uros.nl/event/lcc-veldloop-add-tongeren-borgloon/
LOCATION:Tongeren-Borgloon
CATEGORIES:Competition
END:VEVENT
BEGIN:VEVENT
DTSTART;VALUE=DATE:20251102
DTEND;VALUE=DATE:20251103
DTSTAMP:20260421T213642
CREATED:20251027T112708Z
LAST-MODIFIED:20251027T113520Z
UID:621-1762041600-1762127999@uros.nl
SUMMARY:ENCI-Bergloop
DESCRIPTION:The ENCI-Bergloop is the oldest cross in the Netherlands and it is organized by Atletiek\nMaastricht! It’s a great opportunity to run without having to go far since the course is\nlocated around the ENCI quarry.\nYou can run two distances: 4.7km (short cross) and 9.3km (long cross)\nsign up: https://inschrijven.nl/form/2025110217306-nl (you can also sign up there on the\nday of the event)\nInformation: https://evenementen.atletiekmaastricht.nl/enci-bergloop-programma/
URL:https://uros.nl/event/enci-bergloop/
LOCATION:Maastricht
CATEGORIES:Competition
END:VEVENT
BEGIN:VEVENT
DTSTART;VALUE=DATE:20251101
DTEND;VALUE=DATE:20251102
DTSTAMP:20260421T213642
CREATED:20251003T114715Z
LAST-MODIFIED:20251027T113453Z
UID:595-1761955200-1762041599@uros.nl
SUMMARY:NSK Road
DESCRIPTION:Participate in the 5K\, 10K o a mixed relay of 4 x 475m! \nA great competition for both long distance runners and sprinters 🙂 \nAs usual\, there will also be a party and dinner afterwards! \nRegistration cost for students: 6 euros for individual events & 8 euros for the relay \nDeadline for signup: October 27th \nYou can also sign up as a volunteer! \n 
URL:https://uros.nl/event/nsk-road/
LOCATION:Enschede
CATEGORIES:Competition
END:VEVENT
BEGIN:VEVENT
DTSTART;TZID=Europe/Amsterdam:20251030T220000
DTEND;TZID=Europe/Amsterdam:20251031T030000
DTSTAMP:20260421T213642
CREATED:20251027T110940Z
LAST-MODIFIED:20251027T110940Z
UID:592-1761861600-1761879600@uros.nl
SUMMARY:Halloween Party
DESCRIPTION:Join us for a spooky night together with other Maastricht sport associations at Dn Hiemel! \nMake sure to wear your best costume 😉 \nWe’ll also have a pre together!
URL:https://uros.nl/event/halloween-party/
LOCATION:Dn Hiemel
END:VEVENT
BEGIN:VEVENT
DTSTART;TZID=Europe/Amsterdam:20251014T203000
DTEND;TZID=Europe/Amsterdam:20251014T220000
DTSTAMP:20260421T213642
CREATED:20251003T113910Z
LAST-MODIFIED:20251003T113910Z
UID:590-1760473800-1760479200@uros.nl
SUMMARY:Dinner at the track
DESCRIPTION:Enjoy a dinner after practice made by our activity committee! It’s also one of our board members’ birthday 😉
URL:https://uros.nl/event/dinner-at-the-track/
LOCATION:Track
END:VEVENT
BEGIN:VEVENT
DTSTART;VALUE=DATE:20251010
DTEND;VALUE=DATE:20251013
DTSTAMP:20260421T213642
CREATED:20250913T180338Z
LAST-MODIFIED:20250913T180338Z
UID:557-1760054400-1760313599@uros.nl
SUMMARY:Members Weekend 2025
DESCRIPTION:Join us for our yearly Members Weekend – the perfect chance to meet new people\, strengthen bonds\, and enjoy time together off the track. \nA weekend full of fun activities\, team spirit and great memories awaits! \n 
URL:https://uros.nl/event/members-weekend-2025/
END:VEVENT
BEGIN:VEVENT
DTSTART;TZID=Europe/Amsterdam:20251007T083000
DTEND;TZID=Europe/Amsterdam:20251007T220000
DTSTAMP:20260421T213642
CREATED:20251003T113736Z
LAST-MODIFIED:20251003T113736Z
UID:586-1759825800-1759874400@uros.nl
SUMMARY:Drinks at the Track
DESCRIPTION:Have a drink for free at Sportcafe Jekerdal (at the track) and enjoy some time with your friends and other members!
URL:https://uros.nl/event/drinks-at-the-track-4/
LOCATION:Sportcafe Jekerdal
END:VEVENT
BEGIN:VEVENT
DTSTART;TZID=Europe/Amsterdam:20251001T200000
DTEND;TZID=Europe/Amsterdam:20251001T220000
DTSTAMP:20260421T213642
CREATED:20250917T111832Z
LAST-MODIFIED:20250917T111918Z
UID:564-1759348800-1759356000@uros.nl
SUMMARY:General members assembly (GMA)
DESCRIPTION:On the 1st of October\, our General Members Assembly (GMA) will take place. It has mandatory attendance\, and if you are not able to join you need to send an email to bestuur@uros.nl. \nThe GMA is in of itself a meeting for all the current members to see what has been done for the last half-year by the board (and as an association as a whole). In this GMA\, the next board will be voted in. Additionally\, you can also ask the board some questions or give your opinion on topics discussed. Some new committees will also be formed. Take a look here and see if you are interested in joining any one of them. + You will be offered a drink 🙂 \nSee you there! \n-The board 😉
URL:https://uros.nl/event/gma-01_10_2025/
LOCATION:Harvey’s\, Hertogsingel 58-C\, Maastricht\, Limburg\, 6214 AE\, Netherlands
CATEGORIES:GMA
END:VEVENT
BEGIN:VEVENT
DTSTART;TZID=Europe/Amsterdam:20250927T090000
DTEND;TZID=Europe/Amsterdam:20250927T233000
DTSTAMP:20260421T213642
CREATED:20250918T163826Z
LAST-MODIFIED:20250918T163826Z
UID:569-1758963600-1759015800@uros.nl
SUMMARY:Karaoke Night
DESCRIPTION:Join us for a fun night of Karaoke at Défile with the swimming association Tiburón! \nNo need for a ticket or a sign-up\, just show up!
URL:https://uros.nl/event/karaoke-night/
LOCATION:Défile
END:VEVENT
BEGIN:VEVENT
DTSTART;TZID=Europe/Amsterdam:20250912T210000
DTEND;TZID=Europe/Amsterdam:20250913T040000
DTSTAMP:20260421T213642
CREATED:20250902T155634Z
LAST-MODIFIED:20250902T155634Z
UID:383-1757710800-1757736000@uros.nl
SUMMARY:Season Opener Party at Défile with Tiburón
DESCRIPTION:Join us for a night of drinks\, music\, dancing and a whole lot of fun at Défile together with Tiburón and Fyrfad!
URL:https://uros.nl/event/season-opener-party-at-defile-with-tiburon/
LOCATION:Défile
END:VEVENT
BEGIN:VEVENT
DTSTART;TZID=Europe/Amsterdam:20250911T203000
DTEND;TZID=Europe/Amsterdam:20250911T213000
DTSTAMP:20260421T213642
CREATED:20250902T155154Z
LAST-MODIFIED:20250909T113450Z
UID:381-1757622600-1757626200@uros.nl
SUMMARY:Dinner at the track
DESCRIPTION:Big buffet organized collectively by all attending UROS members! \nIf you decide to come please bring something for the buffet such as salads\, dips\, baguettes\, desserts… \nDon’t forget to bring your own plates/bowls and cuttlery!
URL:https://uros.nl/event/dinner-at-the-track-11_09_2025/
LOCATION:Track
CATEGORIES:Dinner
END:VEVENT
BEGIN:VEVENT
DTSTART;TZID=Europe/Amsterdam:20250909T200000
DTEND;TZID=Europe/Amsterdam:20250909T210000
DTSTAMP:20260421T213642
CREATED:20250902T154832Z
LAST-MODIFIED:20250907T215027Z
UID:377-1757448000-1757451600@uros.nl
SUMMARY:Beermile
DESCRIPTION:After training as individual or in relays!
URL:https://uros.nl/event/beermile-2025/
LOCATION:Track
CATEGORIES:Activity,Races
END:VEVENT
BEGIN:VEVENT
DTSTART;TZID=Europe/Amsterdam:20250902T203000
DTEND;TZID=Europe/Amsterdam:20250902T213000
DTSTAMP:20260421T213642
CREATED:20250902T154620Z
LAST-MODIFIED:20250902T154620Z
UID:373-1756845000-1756848600@uros.nl
SUMMARY:Drinks at the track
DESCRIPTION:First drink free for everyone!
URL:https://uros.nl/event/drinks-at-the-track/
LOCATION:Sportcafe Jekerdal
END:VEVENT
BEGIN:VEVENT
DTSTART;TZID=UTC:20250509T180000
DTEND;TZID=UTC:20250509T200000
DTSTAMP:20260421T213642
CREATED:20250904T000233Z
LAST-MODIFIED:20250904T000233Z
UID:421-1746813600-1746820800@uros.nl
SUMMARY:Donation run - 5k run\, fundraising for Gaza food distribution
DESCRIPTION:Next week\, on Friday 9th\, a race of 5km has been organised to raise funds for a food distribution project for families in Gaza. It was organised by the United Nations Student Association (UNSA) of Maastricht\, in collaboration with the nongovernmental organisation Save Youth Future Society Palestine. If you want to participate\, you can do so from the form below. To know more where the money will go to\, you can click here (NGO’s website) or search @unsa.development & @syfspal on Instagram. We’d love to see many of our members join! After the run\, you will be able to stay at the restaurant to get something yourself. Loading…
URL:https://uros.nl/event/donation-run-5k-run-fundraising-for-gaza-food-distribution/
CATEGORIES:Races
END:VEVENT
BEGIN:VEVENT
DTSTART;TZID=UTC:20231013T000000
DTEND;TZID=UTC:20231015T235900
DTSTAMP:20260421T213642
CREATED:20250904T001318Z
LAST-MODIFIED:20250904T001318Z
UID:467-1697155200-1697414340@uros.nl
SUMMARY:Members weekend
DESCRIPTION:The date for the next Members weekend is already known and now it’s time to SAVE THAT DATE in your agenda! Registrations are CLOSED!
URL:https://uros.nl/event/members-weekend-2/
CATEGORIES:Activities
END:VEVENT
BEGIN:VEVENT
DTSTART;TZID=UTC:20230921T204500
DTEND;TZID=UTC:20230921T230000
DTSTAMP:20260421T213642
CREATED:20250904T001320Z
LAST-MODIFIED:20250904T001320Z
UID:471-1695329100-1695337200@uros.nl
SUMMARY:Monthly Dinner at the track
DESCRIPTION:It’s time for the annual monthly dinner at the track again. After a hard training everybody deserves a good meal and how fun to do this with your fellow Athletes! You can sign up below Laden…
URL:https://uros.nl/event/monthly-dinner-at-the-track/
CATEGORIES:Activities
END:VEVENT
BEGIN:VEVENT
DTSTART;TZID=UTC:20230913T191500
DTEND;TZID=UTC:20230913T224500
DTSTAMP:20260421T213642
CREATED:20250904T001319Z
LAST-MODIFIED:20250904T001319Z
UID:470-1694632500-1694645100@uros.nl
SUMMARY:Beermile
DESCRIPTION:DRINK\, RUN\, and repeat! 🍺 Does a better combination even exist for student-athletes? Join us for the Beer Mile on the 13th of September where you will run for a mile\, either as a team or individually\, and chug a beer at the start of each loop. If you’re not a fan of beer you can always drink another beverage of your choosing. Furthermore\, if you would just like to cheer on your fellow Urosians you are also more than welcome to come! Laden…
URL:https://uros.nl/event/beermile-2/
CATEGORIES:Activities
END:VEVENT
BEGIN:VEVENT
DTSTART;TZID=UTC:20230905T203000
DTEND;TZID=UTC:20230905T223000
DTSTAMP:20260421T213642
CREATED:20250904T001319Z
LAST-MODIFIED:20250904T001319Z
UID:469-1693945800-1693953000@uros.nl
SUMMARY:Drinks at the track
DESCRIPTION:How to start the year better\, then to talk with your fellow urosians and potential new urosians about the vacation and more wit a drink after a satisfying training! You can sign up via the website in the form underneath Laden…
URL:https://uros.nl/event/drinks-at-the-track-3/
CATEGORIES:Activities
END:VEVENT
BEGIN:VEVENT
DTSTART;TZID=UTC:20230628T200000
DTEND;TZID=UTC:20230628T220000
DTSTAMP:20260421T213642
CREATED:20250904T001319Z
LAST-MODIFIED:20250904T001319Z
UID:468-1687982400-1687989600@uros.nl
SUMMARY:Crazy 88 with Dutch mountains
DESCRIPTION:Let’s close the year together with our fellow sports cycling association Dutch mountains. It would be fun to learn our fellow sport association members a bit better and What is a better way than enjoying each others company in a activity where we can enjoy the sun and do fun Laden…
URL:https://uros.nl/event/crazy-88-with-dutch-mountains/
CATEGORIES:Activities
END:VEVENT
BEGIN:VEVENT
DTSTART;TZID=UTC:20230617T000000
DTEND;TZID=UTC:20230618T235900
DTSTAMP:20260421T213642
CREATED:20250904T001118Z
LAST-MODIFIED:20250904T001118Z
UID:463-1686960000-1687132740@uros.nl
SUMMARY:NSK baan
DESCRIPTION:Another NSK\, another event to win with Uros. This is a track NSK with multiple Track-related and technical events. On the Athletics site all events can be seen. If you want to participate\, there is already something arranged by the board\, so contact them! https://www.atletiek.nu/wedstrijd/main/38406/?r#r
URL:https://uros.nl/event/nsk-baan/
CATEGORIES:Races
END:VEVENT
BEGIN:VEVENT
DTSTART;TZID=UTC:20230615T210000
DTEND;TZID=UTC:20230615T230000
DTSTAMP:20260421T213642
CREATED:20250904T001119Z
LAST-MODIFIED:20250904T001119Z
UID:466-1686862800-1686870000@uros.nl
SUMMARY:Dinner et the track
DESCRIPTION:It’s time again for the monthly dinner at the track\, We hope to see you all there and enjoy a nice meal together after training! Laden…
URL:https://uros.nl/event/dinner-et-the-track/
CATEGORIES:Activities
END:VEVENT
BEGIN:VEVENT
DTSTART;TZID=UTC:20230531T203000
DTEND;TZID=UTC:20230531T230000
DTSTAMP:20260421T213642
CREATED:20250904T001119Z
LAST-MODIFIED:20250904T001119Z
UID:465-1685565000-1685574000@uros.nl
SUMMARY:Active members activity
DESCRIPTION:We as board want to show our appreciation to all the members that are in a committee this year with a special activity arranged by the board. We hope to see you all the committees (fully there) Laden…
URL:https://uros.nl/event/active-members-activity/
CATEGORIES:Activities
END:VEVENT
BEGIN:VEVENT
DTSTART;TZID=UTC:20230527T110000
DTEND;TZID=UTC:20230528T180000
DTSTAMP:20260421T213642
CREATED:20250904T001118Z
LAST-MODIFIED:20250904T001118Z
UID:462-1685185200-1685296800@uros.nl
SUMMARY:NSK Meerkamp
DESCRIPTION:It is time for another NSK again! this time in Wageningen and there are multiple things you can sign up for: different track races (400m 800m) Heptathlon (Women) Decathlon (Men) We have a group chat for this and you can always ask the board if you have questions! Lso you can sign up via https://www.atletiek.nu/wedstrijd/main/38464/?r#r
URL:https://uros.nl/event/nsk-meerkamp/
CATEGORIES:Races
END:VEVENT
BEGIN:VEVENT
DTSTART;TZID=UTC:20230524T210000
DTEND;TZID=UTC:20230524T230000
DTSTAMP:20260421T213642
CREATED:20250904T001118Z
LAST-MODIFIED:20250904T001118Z
UID:464-1684962000-1684969200@uros.nl
SUMMARY:Board activity
DESCRIPTION:It is time for a board activity again and this time we want to go Bouldering\, We’ll end the night with drinks in the city. We hope to see you all there and you can sign up via the link below! (time still changeable) Laden…
URL:https://uros.nl/event/board-activity/
CATEGORIES:Activities
END:VEVENT
BEGIN:VEVENT
DTSTART;TZID=UTC:20230517T000000
DTEND;TZID=UTC:20230519T235959
DTSTAMP:20260421T213642
CREATED:20250904T000917Z
LAST-MODIFIED:20250904T000917Z
UID:459-1684281600-1684540799@uros.nl
SUMMARY:Trainingsweekend 2023
DESCRIPTION:The annual UROS trainings weekend is finally back! This training camp is a great opportunity to get in some extra trainings\, work towards your personal goals\, and get ready for upcoming competitions! Of course\, there will also be plenty of opportunities to relax and have fun with your fellow Urosians as well. We’re looking forward to seeing you there!! Laden…
URL:https://uros.nl/event/trainingsweekend-2023/
CATEGORIES:Activities
END:VEVENT
END:VCALENDAR