BEGIN:VCALENDAR
VERSION:2.0
PRODID:-//MSAV UROS - ECPv6.15.20//NONSGML v1.0//EN
CALSCALE:GREGORIAN
METHOD:PUBLISH
X-ORIGINAL-URL:https://uros.nl
X-WR-CALDESC:Events for MSAV UROS
REFRESH-INTERVAL;VALUE=DURATION:PT1H
X-Robots-Tag:noindex
X-PUBLISHED-TTL:PT1H
BEGIN:VTIMEZONE
TZID:Europe/Amsterdam
BEGIN:DAYLIGHT
TZOFFSETFROM:+0100
TZOFFSETTO:+0200
TZNAME:CEST
DTSTART:20240331T010000
END:DAYLIGHT
BEGIN:STANDARD
TZOFFSETFROM:+0200
TZOFFSETTO:+0100
TZNAME:CET
DTSTART:20241027T010000
END:STANDARD
BEGIN:DAYLIGHT
TZOFFSETFROM:+0100
TZOFFSETTO:+0200
TZNAME:CEST
DTSTART:20250330T010000
END:DAYLIGHT
BEGIN:STANDARD
TZOFFSETFROM:+0200
TZOFFSETTO:+0100
TZNAME:CET
DTSTART:20251026T010000
END:STANDARD
BEGIN:DAYLIGHT
TZOFFSETFROM:+0100
TZOFFSETTO:+0200
TZNAME:CEST
DTSTART:20260329T010000
END:DAYLIGHT
BEGIN:STANDARD
TZOFFSETFROM:+0200
TZOFFSETTO:+0100
TZNAME:CET
DTSTART:20261025T010000
END:STANDARD
BEGIN:DAYLIGHT
TZOFFSETFROM:+0100
TZOFFSETTO:+0200
TZNAME:CEST
DTSTART:20270328T010000
END:DAYLIGHT
BEGIN:STANDARD
TZOFFSETFROM:+0200
TZOFFSETTO:+0100
TZNAME:CET
DTSTART:20271031T010000
END:STANDARD
END:VTIMEZONE
BEGIN:VEVENT
DTSTART;TZID=Europe/Amsterdam:20251117T180000
DTEND;TZID=Europe/Amsterdam:20251117T210000
DTSTAMP:20260425T181739
CREATED:20251106T162542Z
LAST-MODIFIED:20251106T162542Z
UID:663-1763402400-1763413200@uros.nl
SUMMARY:New members' dinner
DESCRIPTION:As part of joining UROS\, you get to enjoy a nice (free) meal cooked by the board!:) This is a great opportunity to get to know each other a little more in a more cozy setting. Good food\, good company\, and a chance to connect with everyone who joined this year. Hope to see you there!
URL:https://uros.nl/event/new-members-dinner/
CATEGORIES:Dinner
END:VEVENT
BEGIN:VEVENT
DTSTART;TZID=Europe/Amsterdam:20251119T190000
DTEND;TZID=Europe/Amsterdam:20251119T233000
DTSTAMP:20260425T181739
CREATED:20251106T163023Z
LAST-MODIFIED:20251106T163023Z
UID:665-1763578800-1763595000@uros.nl
SUMMARY:Pub crawl
DESCRIPTION:Time to sit back and explore the Maastricht nightlife with your fellow UROSians! Enjoy a night of drinks and good vibes\, join us for a fun night out! 🍻
URL:https://uros.nl/event/pub-crawl/
LOCATION:Maastricht
CATEGORIES:Activities
END:VEVENT
BEGIN:VEVENT
DTSTART;TZID=Europe/Amsterdam:20251123T080000
DTEND;TZID=Europe/Amsterdam:20251123T170000
DTSTAMP:20260425T181739
CREATED:20251027T114955Z
LAST-MODIFIED:20251027T114955Z
UID:643-1763884800-1763917200@uros.nl
SUMMARY:LCC sint Barbara veldloop Genk
DESCRIPTION:This is the third race of the Limburg (Belgium) cross-country series. You can choose to run\nthe short cross or the long cross (5145m-women)/8280m-men). \nRegistration is possible until the 23rd of November at noon.
URL:https://uros.nl/event/lcc-sint-barbara-veldloop-genk/
LOCATION:Tongeren-Borgloon
CATEGORIES:Competition
END:VEVENT
BEGIN:VEVENT
DTSTART;TZID=Europe/Amsterdam:20251127T203000
DTEND;TZID=Europe/Amsterdam:20251127T213000
DTSTAMP:20260425T181739
CREATED:20251106T163401Z
LAST-MODIFIED:20251106T163401Z
UID:667-1764275400-1764279000@uros.nl
SUMMARY:Dinner at the track
DESCRIPTION:It’s time for the monthly dinner at the track again! The board will once again prepare some nice food to enjoy after training. Don’t forget your utensils and plates!
URL:https://uros.nl/event/dinner-at-the-track-8/
LOCATION:Sportcafe Jekerdal
CATEGORIES:Dinner
END:VEVENT
BEGIN:VEVENT
DTSTART;VALUE=DATE:20251128
DTEND;VALUE=DATE:20251201
DTSTAMP:20260425T181739
CREATED:20251027T115112Z
LAST-MODIFIED:20251027T115112Z
UID:645-1764288000-1764547199@uros.nl
SUMMARY:Waranderloop Tilburg
DESCRIPTION:This is the biggest cross-country race in the country. It is also part of the Dutch\nchampionship XC. There is a short cross (1875m) and a long cross (10km). \nRegistration is possible until November 10 at noon.
URL:https://uros.nl/event/waranderloop-tilburg/
LOCATION:Tilburg
CATEGORIES:Competition
END:VEVENT
BEGIN:VEVENT
DTSTART;VALUE=DATE:20251212
DTEND;VALUE=DATE:20251213
DTSTAMP:20260425T181739
CREATED:20251027T115220Z
LAST-MODIFIED:20251027T115220Z
UID:648-1765497600-1765583999@uros.nl
SUMMARY:NSK stairs
DESCRIPTION:This is the Dutch Students’ Stairs Championships. Students from all over the Netherlands\nwill compete there. It is a really fun competition and a great competition to be your first\nNSK!! The following distances were part of the NSK last year: individual 10 floors\,\nindividual 20 floors\, 20 floors relay (4 persons running 5 floors each)\, 20 floors\nbeerchase relay (4 persons running 5 floors each).\nAfter the race\, there will be a dinner and a party.\nMore information & sign-up will follow soon. You can already check their insta:\n@nsktrappenloop
URL:https://uros.nl/event/nsk-stairs-2/
LOCATION:Nijmegen
CATEGORIES:Competition
END:VEVENT
BEGIN:VEVENT
DTSTART;TZID=Europe/Amsterdam:20260205T203000
DTEND;TZID=Europe/Amsterdam:20260205T213000
DTSTAMP:20260425T181739
CREATED:20260203T153057Z
LAST-MODIFIED:20260203T153057Z
UID:687-1770323400-1770327000@uros.nl
SUMMARY:Drinks at the Track
DESCRIPTION:
URL:https://uros.nl/event/drinks-at-the-track-5/
LOCATION:Sportcafe Jekerdal
END:VEVENT
BEGIN:VEVENT
DTSTART;TZID=Europe/Amsterdam:20260227T213000
DTEND;TZID=Europe/Amsterdam:20260228T030000
DTSTAMP:20260425T181739
CREATED:20260203T155348Z
LAST-MODIFIED:20260203T155348Z
UID:689-1772227800-1772247600@uros.nl
SUMMARY:Oscar-themed Lustrum Party
DESCRIPTION:Join us for a night full of fun and glamour!
URL:https://uros.nl/event/oscar-themed-lustrum-party/
LOCATION:Défile
END:VEVENT
BEGIN:VEVENT
DTSTART;VALUE=DATE:20260321
DTEND;VALUE=DATE:20260322
DTSTAMP:20260425T181739
CREATED:20260312T145431Z
LAST-MODIFIED:20260312T145431Z
UID:695-1774051200-1774137599@uros.nl
SUMMARY:NSK Ekiden
DESCRIPTION:
URL:https://uros.nl/event/nsk-ekiden/
LOCATION:Eindhoven
END:VEVENT
BEGIN:VEVENT
DTSTART;VALUE=DATE:20260508
DTEND;VALUE=DATE:20260510
DTSTAMP:20260425T181739
CREATED:20260203T160042Z
LAST-MODIFIED:20260203T160042Z
UID:691-1778198400-1778371199@uros.nl
SUMMARY:Batavienrace
DESCRIPTION:
URL:https://uros.nl/event/batavienrace/
LOCATION:Nijmegen – Enschede
END:VEVENT
END:VCALENDAR