BEGIN:VCALENDAR
VERSION:2.0
PRODID:-//MSAV UROS - ECPv6.15.20//NONSGML v1.0//EN
CALSCALE:GREGORIAN
METHOD:PUBLISH
X-WR-CALNAME:MSAV UROS
X-ORIGINAL-URL:https://uros.nl
X-WR-CALDESC:Events for MSAV UROS
REFRESH-INTERVAL;VALUE=DURATION:PT1H
X-Robots-Tag:noindex
X-PUBLISHED-TTL:PT1H
BEGIN:VTIMEZONE
TZID:UTC
BEGIN:STANDARD
TZOFFSETFROM:+0000
TZOFFSETTO:+0000
TZNAME:UTC
DTSTART:20210101T000000
END:STANDARD
END:VTIMEZONE
BEGIN:VTIMEZONE
TZID:Europe/Amsterdam
BEGIN:DAYLIGHT
TZOFFSETFROM:+0100
TZOFFSETTO:+0200
TZNAME:CEST
DTSTART:20210328T010000
END:DAYLIGHT
BEGIN:STANDARD
TZOFFSETFROM:+0200
TZOFFSETTO:+0100
TZNAME:CET
DTSTART:20211031T010000
END:STANDARD
BEGIN:DAYLIGHT
TZOFFSETFROM:+0100
TZOFFSETTO:+0200
TZNAME:CEST
DTSTART:20220327T010000
END:DAYLIGHT
BEGIN:STANDARD
TZOFFSETFROM:+0200
TZOFFSETTO:+0100
TZNAME:CET
DTSTART:20221030T010000
END:STANDARD
BEGIN:DAYLIGHT
TZOFFSETFROM:+0100
TZOFFSETTO:+0200
TZNAME:CEST
DTSTART:20230326T010000
END:DAYLIGHT
BEGIN:STANDARD
TZOFFSETFROM:+0200
TZOFFSETTO:+0100
TZNAME:CET
DTSTART:20231029T010000
END:STANDARD
END:VTIMEZONE
BEGIN:VEVENT
DTSTART;TZID=UTC:20230512T200000
DTEND;TZID=UTC:20230512T230000
DTSTAMP:20260421T201722
CREATED:20250904T000917Z
LAST-MODIFIED:20250904T000917Z
UID:456-1683921600-1683932400@uros.nl
SUMMARY:Alumni cantus
DESCRIPTION:The activity we’ve all been waiting for is finally taking place; the alumni cantus!! An evening during which all generations of urosians will come together and sing their hearts out while drinking and dancing. The prefect night to relive the student life for alumni and for the current members to meet our beloved alumni members! If you want to have dinner together beforehand\, please let us know 🙂 For alumni specific: please let us know if you would like to have dinner together beforehand and if you need a place to sleep Laden…
URL:https://uros.nl/event/alumni-cantus/
CATEGORIES:Activities
END:VEVENT
BEGIN:VEVENT
DTSTART;TZID=UTC:20230503T210000
DTEND;TZID=UTC:20230504T140000
DTSTAMP:20260421T201722
CREATED:20250904T000917Z
LAST-MODIFIED:20250904T000917Z
UID:458-1683147600-1683208800@uros.nl
SUMMARY:MUSST GALA
DESCRIPTION:We officially announce our Red Carpet Gala presented by MUSST on Wednesday 3rd May 2023 💃🕺 This event is open for all public and UM sports membership holders have a drink included 🍸🥂🍾 Feel free to invite your special one and fellow UM Sports friends to make a memorable night!! 🤩 See you all there 🤩 You can sign up via the MUSST Instagram or the link below (copy and paste it) https://linktr.ee/sportraadmusst
URL:https://uros.nl/event/musst-gala/
CATEGORIES:Activities
END:VEVENT
BEGIN:VEVENT
DTSTART;TZID=UTC:20230428T000000
DTEND;TZID=UTC:20230429T235900
DTSTAMP:20260421T201722
CREATED:20250904T000515Z
LAST-MODIFIED:20250904T000515Z
UID:442-1682640000-1682812740@uros.nl
SUMMARY:Batavierenrace
DESCRIPTION:The Bata takes place on April 28th and 29th\, and is the biggest relay race in the world! As a team\, we run 175km from Nijmegen to Enschede. This distance is divided into 25 stages\, varying in length from roughly 4k-12k\, so there is a lot of flexibility in which distance you run. Of course\, there is also a big party at the end! Your speed does not mater at all\, this is all about having fun as a team\, so we hope everyone will join!!!! 💚🐢 You can sign up for running with Uros via this form: Laden… For the more ‘competitive’ runners\, you can sign up for the university team (see group chat for the link)
URL:https://uros.nl/event/batavierenrace-2/
CATEGORIES:Races
END:VEVENT
BEGIN:VEVENT
DTSTART;TZID=UTC:20230420T203000
DTEND;TZID=UTC:20230420T223000
DTSTAMP:20260421T201722
CREATED:20250904T000917Z
LAST-MODIFIED:20250904T000917Z
UID:457-1682022600-1682029800@uros.nl
SUMMARY:Dinner at the track
DESCRIPTION:It’s time for the monthly dinner at the track again. We all hope to see you there again! sign up via this form: Laden…
URL:https://uros.nl/event/dinner-at-the-track-7/
CATEGORIES:Activities
END:VEVENT
BEGIN:VEVENT
DTSTART;TZID=UTC:20230418T203000
DTEND;TZID=UTC:20230418T213000
DTSTAMP:20260421T201722
CREATED:20250904T000918Z
LAST-MODIFIED:20250904T000918Z
UID:460-1681849800-1681853400@uros.nl
SUMMARY:Board info session
DESCRIPTION:As board we are already looking for interested members who are thinking of being board next year. If you don’t know yet or wanna know what a board year and possible positions entails\, you can always ask us! Next to that we’ll be having a board info session on the Tuesday 18th of April after practice! To know how many people are interested already of are interested to know more about what a board year entail\, We would appreciate if you could sign up via the link below! Love to see you there Board ’22-’23 Laden…
URL:https://uros.nl/event/board-info-session-2/
CATEGORIES:Activities
END:VEVENT
BEGIN:VEVENT
DTSTART;TZID=UTC:20230329T200000
DTEND;TZID=UTC:20230329T220000
DTSTAMP:20260421T201722
CREATED:20250904T000717Z
LAST-MODIFIED:20250904T000717Z
UID:452-1680120000-1680127200@uros.nl
SUMMARY:General members assembly (GMA)
DESCRIPTION:It’s time for the half-year General members assembly. At this assembly it is said what the Board and committees have been doing for the last half year and what is coming up the next coming months. Futhermore\, some committees are assembled this night so if you want to become more active within the association this is your chance! ask the board if you have any questions! See you there! p.s. first drink after is on the board 😉
URL:https://uros.nl/event/general-members-assembly-gma/
CATEGORIES:Activities
END:VEVENT
BEGIN:VEVENT
DTSTART;TZID=UTC:20230322T000000
DTEND;TZID=UTC:20230322T235900
DTSTAMP:20260421T201722
CREATED:20250904T000716Z
LAST-MODIFIED:20250904T000716Z
UID:451-1679443200-1679529540@uros.nl
SUMMARY:Movie Night
DESCRIPTION:What better way to end the month with a cosy movie night? End of the month means low on money\, which is exactly why this is the perfect activity\, since Pathé gives students a discount (yay)!! Sit back and relax during this activity and watch a good movie with your track friends!
URL:https://uros.nl/event/movie-night/
CATEGORIES:Activities
END:VEVENT
BEGIN:VEVENT
DTSTART;TZID=UTC:20230316T210000
DTEND;TZID=UTC:20230316T230000
DTSTAMP:20260421T201722
CREATED:20250904T000716Z
LAST-MODIFIED:20250904T000716Z
UID:450-1679000400-1679007600@uros.nl
SUMMARY:Dinner at the track
DESCRIPTION:It’s time for dinner at the track again! Sign up and enjoy a delicious meal mad by our own Activity committee sign up via: Laden…
URL:https://uros.nl/event/dinner-at-the-track-6/
CATEGORIES:Activities
END:VEVENT
BEGIN:VEVENT
DTSTART;TZID=UTC:20230228T000000
DTEND;TZID=UTC:20230228T235959
DTSTAMP:20260421T201722
CREATED:20250904T000716Z
LAST-MODIFIED:20250904T000716Z
UID:449-1677542400-1677628799@uros.nl
SUMMARY:Monthly drinks at the track (themed)
DESCRIPTION:On Tuesday February 28\, we will be organizing our second drinks at the track! 🍻🥂 This evening will be in DUTCH birthday party theme so you don’t want to miss out on this! 🎂🥳🇳🇱 We will have some drinks with you guys after practice but at the track\, so you don’t have to go anywhere else! And sign up is not required 🤩! (Ofcourse\, it is nice for us that you sign up\, but not mandatory!) Besides that\, the first drink is always on us! If you want you can bring some games that we can play. 🧩 Hope you are as excited as we are and hope to see you there! 💚🐢 Laden…
URL:https://uros.nl/event/monthly-drinks-at-the-track-themed/
CATEGORIES:Activities
END:VEVENT
BEGIN:VEVENT
DTSTART;TZID=UTC:20230225T000000
DTEND;TZID=UTC:20230226T235900
DTSTAMP:20260421T201722
CREATED:20250904T000516Z
LAST-MODIFIED:20250904T000516Z
UID:444-1677283200-1677455940@uros.nl
SUMMARY:NSK Cross
DESCRIPTION:The next NSK on the list\, it’s a NSK a little closer to home (in Eindhoven =) ). It be ran on the 25th of February. If you have questions you can always text anyone of the board! You can subscribe via: https://www.atletiek.nu/wedstrijd/main/38444/ and if you don’t wanna run there is a possibility to volunteer (and party afterwards) via this link: https://docs.google.com/forms/d/e/1FAIpQLSfCsNom2P1znPOL4EJaRRTAKE7YdgLSwObTidmrzzwzJA2gUQ/viewform?usp=sf_link We hope to see you there too on the 25th!
URL:https://uros.nl/event/nsk-cross/
CATEGORIES:Races
END:VEVENT
BEGIN:VEVENT
DTSTART;TZID=UTC:20230215T200000
DTEND;TZID=UTC:20230215T230000
DTSTAMP:20260421T201722
CREATED:20250904T000516Z
LAST-MODIFIED:20250904T000516Z
UID:445-1676491200-1676502000@uros.nl
SUMMARY:Triathlon Cantus
DESCRIPTION:It’s time again to get to know our fellow associations with some drinking and singing\, in the upcoming Triathlon Cantus. For everyone who doesn’t know a cantus\, it’s an evening of singing and drinking beer with your fellow members/friends and a LOT of FUN! There are only so many spots this year so be quick! And we hope to see a full Uros delegation on Wednesday the 15th of February. You can sign up via this form: Laden…
URL:https://uros.nl/event/triathlon-cantus-2/
CATEGORIES:Activities
END:VEVENT
BEGIN:VEVENT
DTSTART;TZID=UTC:20230207T210000
DTEND;TZID=UTC:20230207T230000
DTSTAMP:20260421T201722
CREATED:20250904T000716Z
LAST-MODIFIED:20250904T000716Z
UID:448-1675803600-1675810800@uros.nl
SUMMARY:Drinks at the track
DESCRIPTION:INTRODUCING: Drinks at the track! Since our monthly dinner at the track is going so well\, we came up with a new idea. From February onwards we will not only host a monthly dinner at the track\, but also monthly drinks at the track! 🍻🥂 This means that we will have some drinks with you guys after practice (on Tuesdays) but at the track\, so you don’t have to go anywhere else! And sign up is not required 🤩! (Ofcourse\, it is nice for us that you sign up\, but not mandatory!) Besides that\, the first drink is always on us! So for this month\, we will have some very late new years drinks at the track. If you want you can bring some games that we can play. 🧩 Since it are new years drinks\, the activity committee will make some “oliebollen” especially for you! Hope you are as excited as we are and hope to see you there!💚🐢 Laden…
URL:https://uros.nl/event/drinks-at-the-track-2/
CATEGORIES:Activities
END:VEVENT
BEGIN:VEVENT
DTSTART;TZID=UTC:20230203T170000
DTEND;TZID=UTC:20230204T100000
DTSTAMP:20260421T201722
CREATED:20250904T000515Z
LAST-MODIFIED:20250904T000515Z
UID:443-1675443600-1675504800@uros.nl
SUMMARY:NSK stairs
DESCRIPTION:The first NSK of 2023 is coming up on the 3th of February after classes and everyone can participate. The options are 20 floors (for the tough cookies) 10 floors (for the challenge) Relay (4 x 5 floors) —–> We already have some teams that needs to be filled up And and the end of the evening there is a (optional) party and sleeping spot! If you want to participate you can contact anyone of the Board (for more info and traveloptions) and subscribe via the link: https://inschrijven.nl/form/2023020318435-en You can sign up until the 27th of Januari! We hope to see you there!
URL:https://uros.nl/event/nsk-stairs/
CATEGORIES:Races
END:VEVENT
BEGIN:VEVENT
DTSTART;TZID=UTC:20230126T210000
DTEND;TZID=UTC:20230126T230000
DTSTAMP:20260421T201722
CREATED:20250904T000515Z
LAST-MODIFIED:20250904T000515Z
UID:441-1674766800-1674774000@uros.nl
SUMMARY:Dinner at the Track
DESCRIPTION:It’s time again for a dinner at the track! Don’t forget to sign-up! Laden…
URL:https://uros.nl/event/dinner-at-the-track-5/
CATEGORIES:Activities
END:VEVENT
BEGIN:VEVENT
DTSTART;TZID=UTC:20230118T180000
DTEND;TZID=UTC:20230118T190000
DTSTAMP:20260421T201722
CREATED:20250904T000500Z
LAST-MODIFIED:20250904T000500Z
UID:440-1674064800-1674068400@uros.nl
SUMMARY:Jumping XL
DESCRIPTION:Jump into the new year with us (literally). Join us at jump square for an hour of jumping in a big trampoline park. The time will be around 1800. Don’t forget to sign up! Laden…
URL:https://uros.nl/event/jumping-xl/
CATEGORIES:Activities
END:VEVENT
BEGIN:VEVENT
DTSTART;TZID=UTC:20221215T203000
DTEND;TZID=UTC:20221215T220000
DTSTAMP:20260421T201722
CREATED:20250904T000459Z
LAST-MODIFIED:20250904T000459Z
UID:438-1671136200-1671141600@uros.nl
SUMMARY:Dinner at the track
DESCRIPTION:It’s time again for the dinner at the track on the 22th of December. Hope to see you there! Laden…
URL:https://uros.nl/event/dinner-at-the-track-4/
CATEGORIES:Activities
END:VEVENT
BEGIN:VEVENT
DTSTART;TZID=UTC:20221207T203000
DTEND;TZID=UTC:20221207T233000
DTSTAMP:20260421T201722
CREATED:20250904T000500Z
LAST-MODIFIED:20250904T000500Z
UID:439-1670445000-1670455800@uros.nl
SUMMARY:Magical Maastricht
DESCRIPTION:What better way to start off December with a visit to the Christmas market of Maastricht? Visit the many stalls\, go for a ride in the Ferris wheel and show off your ice skating skills! The price includes all the activities mentioned above\, including two drinks Laden…
URL:https://uros.nl/event/magical-maastricht/
CATEGORIES:Activities
END:VEVENT
BEGIN:VEVENT
DTSTART;TZID=Europe/Amsterdam:20221129T203000
DTEND;TZID=Europe/Amsterdam:20221129T233000
DTSTAMP:20260421T201722
CREATED:20250904T000459Z
LAST-MODIFIED:20250904T000459Z
UID:437-1669753800-1669764600@uros.nl
SUMMARY:MUSST Cantus
DESCRIPTION:There will be a cantus organized for every student sport association (ssa) on the 29th of November. And every member is welcome! It costs 10 euro and can sign up via the link: https://docs.google.com/forms/d/e/1FAIpQLSdUbHK1SPsWUP6Wmj8ubQnUrM8R0E2Vd8pkQj8i6dygfnuFGw/viewform?usp=sf_link (see groupchat Uros) The sign up is ready after you paid the MUSST In this form all will be explained a little more and you can also sign up via this form it is not allowed to cancel your sign up and/or not show up so make sure you can come and we hope to see you there with us!
URL:https://uros.nl/event/musst-cantus/
CATEGORIES:Activities
END:VEVENT
BEGIN:VEVENT
DTSTART;TZID=UTC:20221124T210000
DTEND;TZID=UTC:20221124T234500
DTSTAMP:20260421T201722
CREATED:20250904T000413Z
LAST-MODIFIED:20250904T000413Z
UID:434-1669323600-1669333500@uros.nl
SUMMARY:CoBo
DESCRIPTION:CoBo stands for (really rough translation) Constitution drinks. This is the night where old boards of Uros and Boards from other sports or athletics associations congratulate us with our board year. As the new Board of Uros we would love to celebrate this with all our members! We hope to see you at cafe ‘De beurs’ after practice\, so we can celebrate it with everybody!
URL:https://uros.nl/event/cobo-2/
CATEGORIES:Activities
END:VEVENT
BEGIN:VEVENT
DTSTART;TZID=UTC:20221117T203000
DTEND;TZID=UTC:20221117T220000
DTSTAMP:20260421T201722
CREATED:20250904T000459Z
LAST-MODIFIED:20250904T000459Z
UID:436-1668717000-1668722400@uros.nl
SUMMARY:Dinner at the track
DESCRIPTION:The next dinner at the track is here! Let’s eat together after practice\, see you there! Laden…
URL:https://uros.nl/event/dinner-at-the-track-3/
CATEGORIES:Activities
END:VEVENT
BEGIN:VEVENT
DTSTART;TZID=UTC:20221116T190000
DTEND;TZID=UTC:20221116T233000
DTSTAMP:20260421T201722
CREATED:20250904T000413Z
LAST-MODIFIED:20250904T000413Z
UID:433-1668625200-1668641400@uros.nl
SUMMARY:New Members (cycling) dinner
DESCRIPTION:For the new members Do you want to get to know your fellow new members while enjoying a (free) meal\, cooked by the board\, This is your chance! The Board will prepare a three-course meal for you at multiple locations\, where you can get to know your new members over a nice meal. We hope to see all new members! Laden…
URL:https://uros.nl/event/new-members-cycling-dinner/
CATEGORIES:Activities
END:VEVENT
BEGIN:VEVENT
DTSTART;TZID=UTC:20221109T210000
DTEND;TZID=UTC:20221109T234500
DTSTAMP:20260421T201722
CREATED:20250904T000413Z
LAST-MODIFIED:20250904T000413Z
UID:432-1668027600-1668037500@uros.nl
SUMMARY:Karaoke at George's
DESCRIPTION:Who said Urosians should stick to only playing sports? Join us at George’s pub for a fun evening of Karaoke where you can show off your singing skills! Have some drinks\, talk with your fellow Urosians and grab the microphone (if you can’t sing\, don’t worry\, we’re runners\, not singers. Plus: if you can’t sing\, it will be more fun for the others hehe) Laden…
URL:https://uros.nl/event/karaoke-at-georges/
CATEGORIES:Activities
END:VEVENT
BEGIN:VEVENT
DTSTART;TZID=UTC:20221104T000000
DTEND;TZID=UTC:20221106T235900
DTSTAMP:20260421T201722
CREATED:20250904T000248Z
LAST-MODIFIED:20250904T000248Z
UID:424-1667520000-1667779140@uros.nl
SUMMARY:Members Weekend
DESCRIPTION:SAVE THE DATE! In November it’s time for the famous annual UROS members weekend again! Did you party so hard during summer that you forgot all the names? Or did you train so much that you don’t know how to have some fun anymore? Are you a new member and do you want to get to know all your fellow Uros members? This is your chance! It will take place during the first weekend of November (4-5-6). Laden…
URL:https://uros.nl/event/members-weekend/
CATEGORIES:Activities
END:VEVENT
BEGIN:VEVENT
DTSTART;TZID=UTC:20221020T223000
DTEND;TZID=UTC:20221021T020000
DTSTAMP:20260421T201722
CREATED:20250904T000412Z
LAST-MODIFIED:20250904T000412Z
UID:431-1666305000-1666317600@uros.nl
SUMMARY:Game night + drinks
DESCRIPTION:After practice\, we definitely deserve some fun time off! We will gather after practice\, playing games and pre-drinking for a night out 🙂 Get to know your fellow Urosians and join us for this evening full of friends\, games\, and booze (or soda ;)) Laden…
URL:https://uros.nl/event/game-night-drinks/
CATEGORIES:Activities
END:VEVENT
BEGIN:VEVENT
DTSTART;TZID=UTC:20221005T183000
DTEND;TZID=UTC:20221005T191500
DTSTAMP:20260421T201722
CREATED:20250904T000412Z
LAST-MODIFIED:20250904T000412Z
UID:430-1664994600-1664997300@uros.nl
SUMMARY:Squash
DESCRIPTION:Are you interested in doing some more sports with us? If yes\, you should join the squash activity! We will go to UM sports and play some squash there. We only have to buy the balls. So it won’t cost you too much! Laden…
URL:https://uros.nl/event/squash/
CATEGORIES:Activities
END:VEVENT
BEGIN:VEVENT
DTSTART;TZID=UTC:20220922T000000
DTEND;TZID=UTC:20220922T235959
DTSTAMP:20260421T201722
CREATED:20250904T000213Z
LAST-MODIFIED:20250904T000213Z
UID:409-1663804800-1663891199@uros.nl
SUMMARY:Dinner at the track
DESCRIPTION:What better way to end a great practice than with a tasty meal? Join us for dinner at the track where you can enjoy a special meal prepared by our activity committee. Sign-ups are still open and it would be lovely to see many of you there! Laden…
URL:https://uros.nl/event/dinner-at-the-track-2/
CATEGORIES:Activities
END:VEVENT
BEGIN:VEVENT
DTSTART;TZID=UTC:20220921T000000
DTEND;TZID=UTC:20220921T235959
DTSTAMP:20260421T201722
CREATED:20250904T000210Z
LAST-MODIFIED:20250904T000210Z
UID:403-1663718400-1663804799@uros.nl
SUMMARY:General Members Assembly
DESCRIPTION:On the 21st of September\, our General Members Assembly (GMA) will take place. Are you curious about what the board did in the last half-year? Come join us! You can also ask the board some questions or give your opinion. During this GMA some new committees will be formed\, like the INKOM committee and the members weekend committee. So\, if you want to become a member of one of the committees\, this is your perfect chance. We will end the meeting with a drink. Laden…
URL:https://uros.nl/event/general-members-assembly/
CATEGORIES:Activities
END:VEVENT
BEGIN:VEVENT
DTSTART;TZID=UTC:20220914T200000
DTEND;TZID=UTC:20220914T233000
DTSTAMP:20260421T201722
CREATED:20250904T000249Z
LAST-MODIFIED:20250904T000249Z
UID:426-1663185600-1663198200@uros.nl
SUMMARY:Drinks at the park
DESCRIPTION:Laden…
URL:https://uros.nl/event/drinks-at-the-park/
CATEGORIES:Activities
END:VEVENT
BEGIN:VEVENT
DTSTART;TZID=UTC:20220905T193000
DTEND;TZID=UTC:20220905T210000
DTSTAMP:20260421T201722
CREATED:20250904T000248Z
LAST-MODIFIED:20250904T000248Z
UID:425-1662406200-1662411600@uros.nl
SUMMARY:Beer Mile
DESCRIPTION:DRINK\, RUN\, and repeat! 🍺 Does a better combination even exist for student-athletes? Join us for the Beer Mile on the 8th of September where you will run for a mile\, either as a team or individually\, and chug a beer at the start of each loop. If you’re not a fan of beer you can always drink another beverage of your choosing. Furthermore\, if you would just like to cheer on your fellow Urosians you are also more than welcome to come!  Laden…
URL:https://uros.nl/event/beer-mile/
CATEGORIES:Activities
END:VEVENT
BEGIN:VEVENT
DTSTART;TZID=UTC:20220829T000000
DTEND;TZID=UTC:20220902T235959
DTSTAMP:20260421T201722
CREATED:20250904T000214Z
LAST-MODIFIED:20250904T000214Z
UID:412-1661731200-1662163199@uros.nl
SUMMARY:Lustrum Trip
DESCRIPTION:We are going to Prague! To celebrate UROS’ birthday we will be making a trip to Prague. We will be leaving on the 29th of August and we will come back on the 2nd of September. The cost for the trip will be €300. This includes the travel\, stay\, breakfast\, and some organized activities. Download HERE the contract form and fill in the google form to secure one of the 30 spots we have for the trip. Sign-ups will close on the 30th of April. For more information\, don’t hesitate to ask! Sign-ups are closed
URL:https://uros.nl/event/lustrum-trip/
CATEGORIES:Activities
END:VEVENT
END:VCALENDAR