BEGIN:VCALENDAR
VERSION:2.0
PRODID:-//MSAV UROS - ECPv6.15.20//NONSGML v1.0//EN
CALSCALE:GREGORIAN
METHOD:PUBLISH
X-WR-CALNAME:MSAV UROS
X-ORIGINAL-URL:https://uros.nl
X-WR-CALDESC:Events for MSAV UROS
REFRESH-INTERVAL;VALUE=DURATION:PT1H
X-Robots-Tag:noindex
X-PUBLISHED-TTL:PT1H
BEGIN:VTIMEZONE
TZID:UTC
BEGIN:STANDARD
TZOFFSETFROM:+0000
TZOFFSETTO:+0000
TZNAME:UTC
DTSTART:20210101T000000
END:STANDARD
END:VTIMEZONE
BEGIN:VEVENT
DTSTART;TZID=UTC:20220507T000000
DTEND;TZID=UTC:20220507T235959
DTSTAMP:20260423T193440
CREATED:20250904T000227Z
LAST-MODIFIED:20250904T000227Z
UID:414-1651881600-1651967999@uros.nl
SUMMARY:Atlesjiekgala ZeuS
DESCRIPTION:On the 7th of May\, a few student athletics associations will organize a gala for all members of all associations. It will take place in Utrecht. A ticket will cost € 35\,00 but\, drinks are included for the whole night! The evening starts at 21:00. Registrations will open tomorrow\, first come first serve\, so if you want to go\, be fast. CLICK HERE to sign up! Hope to see a lot of you there 💚🐢
URL:https://uros.nl/event/atlesjiekgala-zeus/
CATEGORIES:Activities
END:VEVENT
BEGIN:VEVENT
DTSTART;TZID=UTC:20220429T180000
DTEND;TZID=UTC:20220430T220000
DTSTAMP:20260423T193440
CREATED:20250904T000211Z
LAST-MODIFIED:20250904T000211Z
UID:407-1651255200-1651356000@uros.nl
SUMMARY:Batavierenrace
DESCRIPTION:The Batavierenrace is a relay race over 175 km from Nijmegen to Enschede\, divided into 25 stages (16 men’s stages and 9 women’s stages) varying from 3.5 km to 10.7 km. Over 350 teams participate in the race\, which means more than 8\,000 students. This has earned us a place in the Guinness Book of Records. The Batavierenrace is a mixture of a competitive sport-event as well as a big social event. This is the beginning of 18 hours of sportsmanship. Afterward\, the biggest student party in Europe takes place\, with over 12\,000 visitors! In brief: a great opportunity to be out with your team for a few days and be part of a fantastic event! Registrations are closed
URL:https://uros.nl/event/batavierenrace/
CATEGORIES:Activities
END:VEVENT
BEGIN:VEVENT
DTSTART;TZID=UTC:20220423T000000
DTEND;TZID=UTC:20220423T235959
DTSTAMP:20260423T193440
CREATED:20250904T000211Z
LAST-MODIFIED:20250904T000211Z
UID:406-1650672000-1650758399@uros.nl
SUMMARY:Lustrum Activity
DESCRIPTION:To make this birthday complete\, the first UROS lustrum activity will be organized. During the day there will be an active activity on the track. After all this hard effort the beers are well deserved at the official lustrum party that night (starting at 21.00). Do you know old Urosians that aren’t alumni\, or do you want to invite your old trainers? Feel welcome\, as every current and old Urosian is invited for the day! Laden…
URL:https://uros.nl/event/lustrum-activity/
CATEGORIES:Activities
END:VEVENT
BEGIN:VEVENT
DTSTART;TZID=UTC:20220422T000000
DTEND;TZID=UTC:20220422T235959
DTSTAMP:20260423T193440
CREATED:20250904T000210Z
LAST-MODIFIED:20250904T000210Z
UID:405-1650585600-1650671999@uros.nl
SUMMARY:Team Race
DESCRIPTION:Check your calendar\, because\, on the 22nd of April at 18.00\, we will be organizing the annual UROS team race! For this 5 KM trail run\, you will compete in teams from 4 to 7 people. The race starts at the Jekerdal track\, continues on the Sint Pieter hill\, and will have an epic finish at the track again. This makes it the ideal last preparation for the Batavierenrace but is also a true team effort with your fellow Urosians so contact your friends and create the strongest team for an amazing race! Costs for the race will be €5\,00 (per person). After the race\, there will be a dinner and some drinks which you can join for + €10\,00 (per person). If you (only) wanna join the BBQ\, don’t forget to fill in the second form down below 😉 Laden… Laden…
URL:https://uros.nl/event/team-race/
CATEGORIES:Activities
END:VEVENT
BEGIN:VEVENT
DTSTART;TZID=UTC:20220413T000000
DTEND;TZID=UTC:20220413T235959
DTSTAMP:20260423T193440
CREATED:20250904T000213Z
LAST-MODIFIED:20250904T000213Z
UID:410-1649808000-1649894399@uros.nl
SUMMARY:Pool Bar Night
DESCRIPTION:Wanna play some pooling? Or just catch up with your friends? Visit us on the pool night at the Snooker Center Maastricht. Laden…
URL:https://uros.nl/event/pool-bar-night/
CATEGORIES:Activities
END:VEVENT
BEGIN:VEVENT
DTSTART;TZID=UTC:20220406T000000
DTEND;TZID=UTC:20220406T235959
DTSTAMP:20260423T193440
CREATED:20250904T000213Z
LAST-MODIFIED:20250904T000213Z
UID:408-1649203200-1649289599@uros.nl
SUMMARY:Cycling Dinner
DESCRIPTION:What is more Dutch than a nice 🚲 ride through Maastricht? This sports activity has a culinary twist because starter\, main\, and dessert will be served at 3 different places cooked by the board! You don’t wanna miss it 😉 Laden…
URL:https://uros.nl/event/cycling-dinner/
CATEGORIES:Activities
END:VEVENT
BEGIN:VEVENT
DTSTART;TZID=UTC:20220323T000000
DTEND;TZID=UTC:20220323T235959
DTSTAMP:20260423T193440
CREATED:20250904T000210Z
LAST-MODIFIED:20250904T000210Z
UID:404-1647993600-1648079999@uros.nl
SUMMARY:Triathlon Cantus
DESCRIPTION:What do swimming\, cycling\, and running have in common? That’s right\, hydration? Laden…
URL:https://uros.nl/event/triathlon-cantus/
CATEGORIES:Activities
END:VEVENT
END:VCALENDAR